BEGIN:VCALENDAR
VERSION:2.0
PRODID:-//Liberty High School Band and Orchestra Parents Club - ECPv6.15.20//NONSGML v1.0//EN
CALSCALE:GREGORIAN
METHOD:PUBLISH
X-ORIGINAL-URL:https://lhsgbopc.org
X-WR-CALDESC:Events for Liberty High School Band and Orchestra Parents Club
REFRESH-INTERVAL;VALUE=DURATION:PT1H
X-Robots-Tag:noindex
X-PUBLISHED-TTL:PT1H
BEGIN:VTIMEZONE
TZID:America/New_York
BEGIN:DAYLIGHT
TZOFFSETFROM:-0500
TZOFFSETTO:-0400
TZNAME:EDT
DTSTART:20250309T070000
END:DAYLIGHT
BEGIN:STANDARD
TZOFFSETFROM:-0400
TZOFFSETTO:-0500
TZNAME:EST
DTSTART:20251102T060000
END:STANDARD
BEGIN:DAYLIGHT
TZOFFSETFROM:-0500
TZOFFSETTO:-0400
TZNAME:EDT
DTSTART:20260308T070000
END:DAYLIGHT
BEGIN:STANDARD
TZOFFSETFROM:-0400
TZOFFSETTO:-0500
TZNAME:EST
DTSTART:20261101T060000
END:STANDARD
BEGIN:DAYLIGHT
TZOFFSETFROM:-0500
TZOFFSETTO:-0400
TZNAME:EDT
DTSTART:20270314T070000
END:DAYLIGHT
BEGIN:STANDARD
TZOFFSETFROM:-0400
TZOFFSETTO:-0500
TZNAME:EST
DTSTART:20271107T060000
END:STANDARD
END:VTIMEZONE
BEGIN:VEVENT
DTSTART;TZID=America/New_York:20260501T190000
DTEND;TZID=America/New_York:20260501T210000
DTSTAMP:20260425T070520
CREATED:20260122T120258Z
LAST-MODIFIED:20260122T120258Z
UID:19766-1777662000-1777669200@lhsgbopc.org
SUMMARY:Orchestra Pops! & First Company Concert
DESCRIPTION:
URL:https://lhsgbopc.org/event/orchestra-pops-first-company-concert/
END:VEVENT
BEGIN:VEVENT
DTSTART;TZID=America/New_York:20260507T180000
DTEND;TZID=America/New_York:20260507T200000
DTSTAMP:20260425T070520
CREATED:20260122T120352Z
LAST-MODIFIED:20260122T120352Z
UID:19767-1778176800-1778184000@lhsgbopc.org
SUMMARY:Choir Dress Rehearsal with Orchestra
DESCRIPTION:
URL:https://lhsgbopc.org/event/choir-dress-rehearsal-with-orchestra/
END:VEVENT
BEGIN:VEVENT
DTSTART;TZID=America/New_York:20260508T170000
DTEND;TZID=America/New_York:20260508T210000
DTSTAMP:20260425T070520
CREATED:20260122T120420Z
LAST-MODIFIED:20260122T120420Z
UID:19768-1778259600-1778274000@lhsgbopc.org
SUMMARY:Evening of the Arts Choir Concert with Orchestra
DESCRIPTION:
URL:https://lhsgbopc.org/event/evening-of-the-arts-choir-concert-with-orchestra/
END:VEVENT
BEGIN:VEVENT
DTSTART;TZID=America/New_York:20260514T193000
DTEND;TZID=America/New_York:20260514T210000
DTSTAMP:20260425T070520
CREATED:20260122T120541Z
LAST-MODIFIED:20260122T120541Z
UID:19770-1778787000-1778792400@lhsgbopc.org
SUMMARY:LHSGB&OPC Meeting
DESCRIPTION:
URL:https://lhsgbopc.org/event/lhsgbopc-meeting-3/
END:VEVENT
BEGIN:VEVENT
DTSTART;TZID=America/New_York:20260517T160000
DTEND;TZID=America/New_York:20260517T180000
DTSTAMP:20260425T070520
CREATED:20260122T120606Z
LAST-MODIFIED:20260122T120606Z
UID:19771-1779033600-1779040800@lhsgbopc.org
SUMMARY:London Band Week Rehearsal
DESCRIPTION:
URL:https://lhsgbopc.org/event/london-band-week-rehearsal-6/
END:VEVENT
BEGIN:VEVENT
DTSTART;TZID=America/New_York:20260525T080000
DTEND;TZID=America/New_York:20260525T170000
DTSTAMP:20260425T070520
CREATED:20260122T120632Z
LAST-MODIFIED:20260122T120632Z
UID:19772-1779696000-1779728400@lhsgbopc.org
SUMMARY:Memorial Day Parade
DESCRIPTION:
URL:https://lhsgbopc.org/event/memorial-day-parade/
END:VEVENT
END:VCALENDAR